BEGIN:VCALENDAR
PRODID:Calendar
VERSION:2.0
BEGIN:VEVENT
UID:0@default
CLASS:PUBLIC
DESCRIPTION:2nd Asian Pacfic Championships, June
DTSTAMP;VALUE=DATE-TIME:20190111T182626
DTSTART;VALUE=DATE-TIME:20190621T090000
DTEND;VALUE=DATE-TIME:20190626T170000
LOCATION:Mynamar
SUMMARY;LANGUAGE=en-us:2nd Asian Pacific Championships
TRANSP:TRANSPARENT
END:VEVENT
END:VCALENDAR