BEGIN:VCALENDAR
PRODID:Calendar
VERSION:2.0
BEGIN:VEVENT
UID:0@default
CLASS:PUBLIC
DESCRIPTION:NSW Karate Camp, September
DTSTAMP;VALUE=DATE-TIME:20190111T182626
DTSTART;VALUE=DATE-TIME:20190906T200000
DTEND;VALUE=DATE-TIME:20190908T170000
LOCATION:Heathcote
SUMMARY;LANGUAGE=en-us:NSW Karate Camp
TRANSP:TRANSPARENT
END:VEVENT
END:VCALENDAR