BEGIN:VCALENDAR
PRODID:Calendar
VERSION:2.0
BEGIN:VEVENT
UID:0@default
CLASS:PUBLIC
DESCRIPTION:NSW Country Karate Championships
DTSTAMP;VALUE=DATE-TIME:20190111T182626
DTSTART;VALUE=DATE-TIME:20191020T090000
DTEND;VALUE=DATE-TIME:20191020T160000
LOCATION:Riverina, NSW
SUMMARY;LANGUAGE=en-us:NSW Country Championships
TRANSP:TRANSPARENT
END:VEVENT
END:VCALENDAR